BEGIN:VCALENDAR
VERSION:2.0
CALSCALE:GREGORIAN
BEGIN:VEVENT
URL:https://www.learndesk.us/class/6100141016612864/lesson/cc34b5dbfeaa6207c1eb971c3455a838?ref=outlook-calendar
SUMMARY:Module 22. Security Center
DTSTART;TZID=America/Los_Angeles:20260422T190000
DTEND;TZID=America/Los_Angeles:20260422T200000
LOCATION:https://www.learndesk.us/class/6100141016612864/lesson/cc34b5dbfeaa6207c1eb971c3455a838?ref=outlook-calendar
DESCRIPTION: https://www.learndesk.us/class/6100141016612864/lesson/cc34b5dbfeaa6207c1eb971c3455a838?ref=outlook-calendar
STATUS:CONFIRMED
SEQUENCE:3
BEGIN:VALARM
TRIGGER:-PT10M
DESCRIPTION:Class Reminder
ACTION:DISPLAY
END:VALARM
END:VEVENT
END:VCALENDAR