BEGIN:VCALENDAR
VERSION:2.0
CALSCALE:GREGORIAN
BEGIN:VEVENT
URL:https://www.learndesk.us/class/6068586852384768/lesson/fc7dcf46b549aa1221dd3997bb9fd33d?ref=outlook-calendar
SUMMARY:Customizing the Quick Access Toolbar
DTSTART;TZID=America/Los_Angeles:20260421T190000
DTEND;TZID=America/Los_Angeles:20260421T200000
LOCATION:https://www.learndesk.us/class/6068586852384768/lesson/fc7dcf46b549aa1221dd3997bb9fd33d?ref=outlook-calendar
DESCRIPTION: This module covers working with the Quick Access Toolbar:

- Adding custom commands
- Reordering the commands
- Removing commands
- Resetting it back to default commands
- Moving to below the ribbons

https://www.learndesk.us/class/6068586852384768/lesson/fc7dcf46b549aa1221dd3997bb9fd33d?ref=outlook-calendar
STATUS:CONFIRMED
SEQUENCE:3
BEGIN:VALARM
TRIGGER:-PT10M
DESCRIPTION:Class Reminder
ACTION:DISPLAY
END:VALARM
END:VEVENT
END:VCALENDAR