BEGIN:VCALENDAR
VERSION:2.0
CALSCALE:GREGORIAN
BEGIN:VEVENT
URL:https://www.learndesk.us/class/6068586852384768/lesson/e2ed10e728edd4f41c655007d991dd16?ref=outlook-calendar
SUMMARY:Adding and Manipulating Text, Pictures, Charts and Videos
DTSTART;TZID=America/Los_Angeles:20260421T190000
DTEND;TZID=America/Los_Angeles:20260421T200000
LOCATION:https://www.learndesk.us/class/6068586852384768/lesson/e2ed10e728edd4f41c655007d991dd16?ref=outlook-calendar
DESCRIPTION: This lesson will show you how to add various content to your slides and customize them to meet your needs:
 
- Text
- Pictures
- Videos
- Charts

The step-by-step instructions for these lessons have been added. Sample files have been added to this lesson if you wish to follow along.

https://www.learndesk.us/class/6068586852384768/lesson/e2ed10e728edd4f41c655007d991dd16?ref=outlook-calendar
STATUS:CONFIRMED
SEQUENCE:3
BEGIN:VALARM
TRIGGER:-PT10M
DESCRIPTION:Class Reminder
ACTION:DISPLAY
END:VALARM
END:VEVENT
END:VCALENDAR