BEGIN:VCALENDAR
VERSION:2.0
CALSCALE:GREGORIAN
BEGIN:VEVENT
URL:https://www.learndesk.us/class/6068586852384768/lesson/d52d29d3ac78aca55026b5b778c828aa?ref=outlook-calendar
SUMMARY:Customizing Bullets
DTSTART;TZID=America/Los_Angeles:20260421T190000
DTEND;TZID=America/Los_Angeles:20260421T200000
LOCATION:https://www.learndesk.us/class/6068586852384768/lesson/d52d29d3ac78aca55026b5b778c828aa?ref=outlook-calendar
DESCRIPTION: In this lesson, you will learn how to customize bullets for your bulleted list by changing the size and color, changing the bullet to another symbol, and changing the bullet to a picture. The step-by-step instructions for this lesson have been added.

https://www.learndesk.us/class/6068586852384768/lesson/d52d29d3ac78aca55026b5b778c828aa?ref=outlook-calendar
STATUS:CONFIRMED
SEQUENCE:3
BEGIN:VALARM
TRIGGER:-PT10M
DESCRIPTION:Class Reminder
ACTION:DISPLAY
END:VALARM
END:VEVENT
END:VCALENDAR