BEGIN:VCALENDAR
VERSION:2.0
CALSCALE:GREGORIAN
BEGIN:VEVENT
URL:https://www.learndesk.us/class/6068586852384768/lesson/cfadbfe12c0af16d3747f31dee46ec98?ref=outlook-calendar
SUMMARY:Pinning Template to Taskbar
DTSTART;TZID=America/Los_Angeles:20260421T190000
DTEND;TZID=America/Los_Angeles:20260421T200000
LOCATION:https://www.learndesk.us/class/6068586852384768/lesson/cfadbfe12c0af16d3747f31dee46ec98?ref=outlook-calendar
DESCRIPTION: This lesson explains how to take a PowerPoint template and pin it to your Taskbar.

https://www.learndesk.us/class/6068586852384768/lesson/cfadbfe12c0af16d3747f31dee46ec98?ref=outlook-calendar
STATUS:CONFIRMED
SEQUENCE:3
BEGIN:VALARM
TRIGGER:-PT10M
DESCRIPTION:Class Reminder
ACTION:DISPLAY
END:VALARM
END:VEVENT
END:VCALENDAR