BEGIN:VCALENDAR
VERSION:2.0
CALSCALE:GREGORIAN
BEGIN:VEVENT
URL:https://www.learndesk.us/class/6068586852384768/lesson/c6f24b597f4cbd41db1663813f9b82e0?ref=outlook-calendar
SUMMARY:Working with Motion Path Animation
DTSTART;TZID=America/Los_Angeles:20260421T190000
DTEND;TZID=America/Los_Angeles:20260421T200000
LOCATION:https://www.learndesk.us/class/6068586852384768/lesson/c6f24b597f4cbd41db1663813f9b82e0?ref=outlook-calendar
DESCRIPTION: This module will walk you through working with motion path animation

- Adding a motion path to an object
- Editing a motion path
- Deleting a motion path
- Using advanced motion paths

The step-by-step instructions for this lesson have been added.

https://www.learndesk.us/class/6068586852384768/lesson/c6f24b597f4cbd41db1663813f9b82e0?ref=outlook-calendar
STATUS:CONFIRMED
SEQUENCE:3
BEGIN:VALARM
TRIGGER:-PT10M
DESCRIPTION:Class Reminder
ACTION:DISPLAY
END:VALARM
END:VEVENT
END:VCALENDAR