BEGIN:VCALENDAR
VERSION:2.0
CALSCALE:GREGORIAN
BEGIN:VEVENT
URL:https://www.learndesk.us/class/6068586852384768/lesson/c6ba26d204cc9dcd09d2d847ce817d7e?ref=outlook-calendar
SUMMARY:Adding Content to Slides
DTSTART;TZID=America/Los_Angeles:20260421T190000
DTEND;TZID=America/Los_Angeles:20260421T200000
LOCATION:https://www.learndesk.us/class/6068586852384768/lesson/c6ba26d204cc9dcd09d2d847ce817d7e?ref=outlook-calendar
DESCRIPTION: After this section, you be able to skillfully add and manipulate content ranging from text to SmartArt to your slides.

https://www.learndesk.us/class/6068586852384768/lesson/c6ba26d204cc9dcd09d2d847ce817d7e?ref=outlook-calendar
STATUS:CONFIRMED
SEQUENCE:3
BEGIN:VALARM
TRIGGER:-PT10M
DESCRIPTION:Class Reminder
ACTION:DISPLAY
END:VALARM
END:VEVENT
END:VCALENDAR