BEGIN:VCALENDAR
VERSION:2.0
CALSCALE:GREGORIAN
BEGIN:VEVENT
URL:https://www.learndesk.us/class/6068586852384768/lesson/c216968acc4d85669c9c0ce9ae991c1c?ref=outlook-calendar
SUMMARY:Creating New Presentation
DTSTART;TZID=America/Los_Angeles:20260421T190000
DTEND;TZID=America/Los_Angeles:20260421T200000
LOCATION:https://www.learndesk.us/class/6068586852384768/lesson/c216968acc4d85669c9c0ce9ae991c1c?ref=outlook-calendar
DESCRIPTION: This module walks you through the process of creating presentations from

- Blank templates
- Microsoft templates
- Personal templates

The step-by-step for this lesson have added.

https://www.learndesk.us/class/6068586852384768/lesson/c216968acc4d85669c9c0ce9ae991c1c?ref=outlook-calendar
STATUS:CONFIRMED
SEQUENCE:3
BEGIN:VALARM
TRIGGER:-PT10M
DESCRIPTION:Class Reminder
ACTION:DISPLAY
END:VALARM
END:VEVENT
END:VCALENDAR