BEGIN:VCALENDAR
VERSION:2.0
CALSCALE:GREGORIAN
BEGIN:VEVENT
URL:https://www.learndesk.us/class/6068586852384768/lesson/bec5e48a796c788bf0ab9fa68d972125?ref=outlook-calendar
SUMMARY:Accessing Contextual Tabs
DTSTART;TZID=America/Los_Angeles:20260421T190000
DTEND;TZID=America/Los_Angeles:20260421T200000
LOCATION:https://www.learndesk.us/class/6068586852384768/lesson/bec5e48a796c788bf0ab9fa68d972125?ref=outlook-calendar
DESCRIPTION: This module explains the many contextual tabs that become available with PowerPoint when applying specific features.

https://www.learndesk.us/class/6068586852384768/lesson/bec5e48a796c788bf0ab9fa68d972125?ref=outlook-calendar
STATUS:CONFIRMED
SEQUENCE:3
BEGIN:VALARM
TRIGGER:-PT10M
DESCRIPTION:Class Reminder
ACTION:DISPLAY
END:VALARM
END:VEVENT
END:VCALENDAR