BEGIN:VCALENDAR
VERSION:2.0
CALSCALE:GREGORIAN
BEGIN:VEVENT
URL:https://www.learndesk.us/class/6068586852384768/lesson/bb5c1121435e593e697f0793ce983801?ref=outlook-calendar
SUMMARY:Working with Slides
DTSTART;TZID=America/Los_Angeles:20260421T190000
DTEND;TZID=America/Los_Angeles:20260421T200000
LOCATION:https://www.learndesk.us/class/6068586852384768/lesson/bb5c1121435e593e697f0793ce983801?ref=outlook-calendar
DESCRIPTION: Once you've completed these sections, you will be able to insert blank slides, reuse slides for other presentations, and add Word outlines to your presentations.

https://www.learndesk.us/class/6068586852384768/lesson/bb5c1121435e593e697f0793ce983801?ref=outlook-calendar
STATUS:CONFIRMED
SEQUENCE:3
BEGIN:VALARM
TRIGGER:-PT10M
DESCRIPTION:Class Reminder
ACTION:DISPLAY
END:VALARM
END:VEVENT
END:VCALENDAR