BEGIN:VCALENDAR
VERSION:2.0
CALSCALE:GREGORIAN
BEGIN:VEVENT
URL:https://www.learndesk.us/class/6068586852384768/lesson/b7d615c72b3675906cf0975ae64c9566?ref=outlook-calendar
SUMMARY:Creating a Self-Running Presentation
DTSTART;TZID=America/Los_Angeles:20260421T190000
DTEND;TZID=America/Los_Angeles:20260421T200000
LOCATION:https://www.learndesk.us/class/6068586852384768/lesson/b7d615c72b3675906cf0975ae64c9566?ref=outlook-calendar
DESCRIPTION: Once you've completed this section, you will be able to create a self-running copy of your presentation.

https://www.learndesk.us/class/6068586852384768/lesson/b7d615c72b3675906cf0975ae64c9566?ref=outlook-calendar
STATUS:CONFIRMED
SEQUENCE:3
BEGIN:VALARM
TRIGGER:-PT10M
DESCRIPTION:Class Reminder
ACTION:DISPLAY
END:VALARM
END:VEVENT
END:VCALENDAR