BEGIN:VCALENDAR
VERSION:2.0
CALSCALE:GREGORIAN
BEGIN:VEVENT
URL:https://www.learndesk.us/class/6068586852384768/lesson/9b97d362b78f9f2ff00122fd6b9f07cc?ref=outlook-calendar
SUMMARY:Navigating PowerPoint's Screen and Tabs
DTSTART;TZID=America/Los_Angeles:20260421T190000
DTEND;TZID=America/Los_Angeles:20260421T200000
LOCATION:https://www.learndesk.us/class/6068586852384768/lesson/9b97d362b78f9f2ff00122fd6b9f07cc?ref=outlook-calendar
DESCRIPTION: This module focuses on the individual parts that make up the PowerPoint screen and how they function.  You will also learn how the tabs work and how related commands are grouped within the ribbons on the various tabs.

https://www.learndesk.us/class/6068586852384768/lesson/9b97d362b78f9f2ff00122fd6b9f07cc?ref=outlook-calendar
STATUS:CONFIRMED
SEQUENCE:3
BEGIN:VALARM
TRIGGER:-PT10M
DESCRIPTION:Class Reminder
ACTION:DISPLAY
END:VALARM
END:VEVENT
END:VCALENDAR