BEGIN:VCALENDAR
VERSION:2.0
CALSCALE:GREGORIAN
BEGIN:VEVENT
URL:https://www.learndesk.us/class/6068586852384768/lesson/8a0c1532346c210e656e196dee63445b?ref=outlook-calendar
SUMMARY:Creating, Printing and Using Presenter Notes
DTSTART;TZID=America/Los_Angeles:20260421T190000
DTEND;TZID=America/Los_Angeles:20260421T200000
LOCATION:https://www.learndesk.us/class/6068586852384768/lesson/8a0c1532346c210e656e196dee63445b?ref=outlook-calendar
DESCRIPTION: In this lesson, you will learn how to work with speaker notes

- Creating speaker notes
- Printing speaker notes
- Viewing speaker notes, utilizing the Presenter view

The step-by-step instructions for this lesson have been added. A sample file has been added to this lesson if you wish to follow along.

https://www.learndesk.us/class/6068586852384768/lesson/8a0c1532346c210e656e196dee63445b?ref=outlook-calendar
STATUS:CONFIRMED
SEQUENCE:3
BEGIN:VALARM
TRIGGER:-PT10M
DESCRIPTION:Class Reminder
ACTION:DISPLAY
END:VALARM
END:VEVENT
END:VCALENDAR