BEGIN:VCALENDAR
VERSION:2.0
CALSCALE:GREGORIAN
BEGIN:VEVENT
URL:https://www.learndesk.us/class/6068586852384768/lesson/8888eb89da1bf6df05437940105a03b4?ref=outlook-calendar
SUMMARY:Adding and Working with SmartArt
DTSTART;TZID=America/Los_Angeles:20260421T190000
DTEND;TZID=America/Los_Angeles:20260421T200000
LOCATION:https://www.learndesk.us/class/6068586852384768/lesson/8888eb89da1bf6df05437940105a03b4?ref=outlook-calendar
DESCRIPTION: This lesson will walk you through the process of adding and building upon a SmartArt design. As and example, we will create a customized organizational chart.

https://www.learndesk.us/class/6068586852384768/lesson/8888eb89da1bf6df05437940105a03b4?ref=outlook-calendar
STATUS:CONFIRMED
SEQUENCE:3
BEGIN:VALARM
TRIGGER:-PT10M
DESCRIPTION:Class Reminder
ACTION:DISPLAY
END:VALARM
END:VEVENT
END:VCALENDAR