BEGIN:VCALENDAR
VERSION:2.0
CALSCALE:GREGORIAN
BEGIN:VEVENT
URL:https://www.learndesk.us/class/6068586852384768/lesson/87f74d89108915557eb90960cc9bb754?ref=outlook-calendar
SUMMARY:Adding Page Numbers, Adding Footers and Changing Locations
DTSTART;TZID=America/Los_Angeles:20260421T190000
DTEND;TZID=America/Los_Angeles:20260421T200000
LOCATION:https://www.learndesk.us/class/6068586852384768/lesson/87f74d89108915557eb90960cc9bb754?ref=outlook-calendar
DESCRIPTION: This lesson teaches you how to add page numbers and move them around on the slides. It also walks you through adding footers.

https://www.learndesk.us/class/6068586852384768/lesson/87f74d89108915557eb90960cc9bb754?ref=outlook-calendar
STATUS:CONFIRMED
SEQUENCE:3
BEGIN:VALARM
TRIGGER:-PT10M
DESCRIPTION:Class Reminder
ACTION:DISPLAY
END:VALARM
END:VEVENT
END:VCALENDAR