BEGIN:VCALENDAR
VERSION:2.0
CALSCALE:GREGORIAN
BEGIN:VEVENT
URL:https://www.learndesk.us/class/6068586852384768/lesson/7af0df9d85e5d034312d7121816ce658?ref=outlook-calendar
SUMMARY:Saving and Loading a Newly created Slide Master Template
DTSTART;TZID=America/Los_Angeles:20260421T190000
DTEND;TZID=America/Los_Angeles:20260421T200000
LOCATION:https://www.learndesk.us/class/6068586852384768/lesson/7af0df9d85e5d034312d7121816ce658?ref=outlook-calendar
DESCRIPTION: This lesson walks you through saving your newly created slide master as a template to use when creating new templates. It also walks you through loading this template.

https://www.learndesk.us/class/6068586852384768/lesson/7af0df9d85e5d034312d7121816ce658?ref=outlook-calendar
STATUS:CONFIRMED
SEQUENCE:3
BEGIN:VALARM
TRIGGER:-PT10M
DESCRIPTION:Class Reminder
ACTION:DISPLAY
END:VALARM
END:VEVENT
END:VCALENDAR