BEGIN:VCALENDAR
VERSION:2.0
CALSCALE:GREGORIAN
BEGIN:VEVENT
URL:https://www.learndesk.us/class/6068586852384768/lesson/6ee80720def3617f2682d18dbcce36f9?ref=outlook-calendar
SUMMARY:Creating Custom Handouts Through Word and Exporting as Different File Types
DTSTART;TZID=America/Los_Angeles:20260421T190000
DTEND;TZID=America/Los_Angeles:20260421T200000
LOCATION:https://www.learndesk.us/class/6068586852384768/lesson/6ee80720def3617f2682d18dbcce36f9?ref=outlook-calendar
DESCRIPTION: This module is a continuation of the previous lesson and walks you through the steps for the last two options for exporting your presentation:

- Creating customized handouts through Word, with the option to link back to your presentation
- Changing the file type

https://www.learndesk.us/class/6068586852384768/lesson/6ee80720def3617f2682d18dbcce36f9?ref=outlook-calendar
STATUS:CONFIRMED
SEQUENCE:3
BEGIN:VALARM
TRIGGER:-PT10M
DESCRIPTION:Class Reminder
ACTION:DISPLAY
END:VALARM
END:VEVENT
END:VCALENDAR