BEGIN:VCALENDAR
VERSION:2.0
CALSCALE:GREGORIAN
BEGIN:VEVENT
URL:https://www.learndesk.us/class/6068586852384768/lesson/6caa630b72e285f3b5c372d9a7e993e0?ref=outlook-calendar
SUMMARY:Creating a Self-Running Presentation Quiz
DTSTART;TZID=America/Los_Angeles:20260421T190000
DTEND;TZID=America/Los_Angeles:20260421T200000
LOCATION:https://www.learndesk.us/class/6068586852384768/lesson/6caa630b72e285f3b5c372d9a7e993e0?ref=outlook-calendar
DESCRIPTION: https://www.learndesk.us/class/6068586852384768/lesson/6caa630b72e285f3b5c372d9a7e993e0?ref=outlook-calendar
STATUS:CONFIRMED
SEQUENCE:3
BEGIN:VALARM
TRIGGER:-PT10M
DESCRIPTION:Class Reminder
ACTION:DISPLAY
END:VALARM
END:VEVENT
END:VCALENDAR