BEGIN:VCALENDAR
VERSION:2.0
CALSCALE:GREGORIAN
BEGIN:VEVENT
URL:https://www.learndesk.us/class/6068586852384768/lesson/62e5f6f373196b759b46bfb55181e88a?ref=outlook-calendar
SUMMARY:Understanding the Slide Master Tab
DTSTART;TZID=America/Los_Angeles:20260421T190000
DTEND;TZID=America/Los_Angeles:20260421T200000
LOCATION:https://www.learndesk.us/class/6068586852384768/lesson/62e5f6f373196b759b46bfb55181e88a?ref=outlook-calendar
DESCRIPTION: This module explains the features on the slide master tab and assists you with navigating it. Step-by-step instructions for this section have been included in this lesson. A sample template has also been included.

https://www.learndesk.us/class/6068586852384768/lesson/62e5f6f373196b759b46bfb55181e88a?ref=outlook-calendar
STATUS:CONFIRMED
SEQUENCE:3
BEGIN:VALARM
TRIGGER:-PT10M
DESCRIPTION:Class Reminder
ACTION:DISPLAY
END:VALARM
END:VEVENT
END:VCALENDAR