BEGIN:VCALENDAR
VERSION:2.0
CALSCALE:GREGORIAN
BEGIN:VEVENT
URL:https://www.learndesk.us/class/6068586852384768/lesson/5df2954f1c8dc6b7b83f9b6242fab073?ref=outlook-calendar
SUMMARY:Saving Presentations
DTSTART;TZID=America/Los_Angeles:20260421T190000
DTEND;TZID=America/Los_Angeles:20260421T200000
LOCATION:https://www.learndesk.us/class/6068586852384768/lesson/5df2954f1c8dc6b7b83f9b6242fab073?ref=outlook-calendar
DESCRIPTION: This lesson teaches you how to embed fonts while saving your presentations. It also walks you through removing the metadata from your presentation.

Sample Presentation with Metadata.pptx has been added to this lesson if you wish to follow along using a sample presentation.

https://www.learndesk.us/class/6068586852384768/lesson/5df2954f1c8dc6b7b83f9b6242fab073?ref=outlook-calendar
STATUS:CONFIRMED
SEQUENCE:3
BEGIN:VALARM
TRIGGER:-PT10M
DESCRIPTION:Class Reminder
ACTION:DISPLAY
END:VALARM
END:VEVENT
END:VCALENDAR