BEGIN:VCALENDAR
VERSION:2.0
CALSCALE:GREGORIAN
BEGIN:VEVENT
URL:https://www.learndesk.us/class/6068586852384768/lesson/5b893b3a186fc940975a1f55a386f799?ref=outlook-calendar
SUMMARY:Rearranging and Deleting Slides
DTSTART;TZID=America/Los_Angeles:20260421T190000
DTEND;TZID=America/Los_Angeles:20260421T200000
LOCATION:https://www.learndesk.us/class/6068586852384768/lesson/5b893b3a186fc940975a1f55a386f799?ref=outlook-calendar
DESCRIPTION: This lesson walks you through rearranging and deleting slides from the thumbnail pane and slide sorter view. The step-by-step instructions for this lesson have been added. A sample file has been added to this lesson if you wish to follow along.

https://www.learndesk.us/class/6068586852384768/lesson/5b893b3a186fc940975a1f55a386f799?ref=outlook-calendar
STATUS:CONFIRMED
SEQUENCE:3
BEGIN:VALARM
TRIGGER:-PT10M
DESCRIPTION:Class Reminder
ACTION:DISPLAY
END:VALARM
END:VEVENT
END:VCALENDAR