BEGIN:VCALENDAR
VERSION:2.0
CALSCALE:GREGORIAN
BEGIN:VEVENT
URL:https://www.learndesk.us/class/6068586852384768/lesson/586eb31a459dc3eac1b9ac3eaa467505?ref=outlook-calendar
SUMMARY:Exporting as PDF, Packaging for CD and Creating a Video of Presentation
DTSTART;TZID=America/Los_Angeles:20260421T190000
DTEND;TZID=America/Los_Angeles:20260421T200000
LOCATION:https://www.learndesk.us/class/6068586852384768/lesson/586eb31a459dc3eac1b9ac3eaa467505?ref=outlook-calendar
DESCRIPTION: This first module walks you through the steps for the first three options available for exporting your presentation

- Exporting to PDF
- Packaging for CD
- Creating a video

The step-by-step instructions for this lesson have been added. Sample presentations have been added to this lesson if you wish to follow along.

https://www.learndesk.us/class/6068586852384768/lesson/586eb31a459dc3eac1b9ac3eaa467505?ref=outlook-calendar
STATUS:CONFIRMED
SEQUENCE:3
BEGIN:VALARM
TRIGGER:-PT10M
DESCRIPTION:Class Reminder
ACTION:DISPLAY
END:VALARM
END:VEVENT
END:VCALENDAR