BEGIN:VCALENDAR
VERSION:2.0
CALSCALE:GREGORIAN
BEGIN:VEVENT
URL:https://www.learndesk.us/class/6068586852384768/lesson/524f07b459c5130c0464ec2727ba58d4?ref=outlook-calendar
SUMMARY:Utilizing Key Tips
DTSTART;TZID=America/Los_Angeles:20260421T190000
DTEND;TZID=America/Los_Angeles:20260421T200000
LOCATION:https://www.learndesk.us/class/6068586852384768/lesson/524f07b459c5130c0464ec2727ba58d4?ref=outlook-calendar
DESCRIPTION: This module teaches you how to use the key tips, enabling you to navigate the tabs and ribbons via your keyboard.

https://www.learndesk.us/class/6068586852384768/lesson/524f07b459c5130c0464ec2727ba58d4?ref=outlook-calendar
STATUS:CONFIRMED
SEQUENCE:3
BEGIN:VALARM
TRIGGER:-PT10M
DESCRIPTION:Class Reminder
ACTION:DISPLAY
END:VALARM
END:VEVENT
END:VCALENDAR