BEGIN:VCALENDAR
VERSION:2.0
CALSCALE:GREGORIAN
BEGIN:VEVENT
URL:https://www.learndesk.us/class/6068586852384768/lesson/513c43d6613ba5b9a9d2df11854bab62?ref=outlook-calendar
SUMMARY:Creating, Recording and Previewing
DTSTART;TZID=America/Los_Angeles:20260421T190000
DTEND;TZID=America/Los_Angeles:20260421T200000
LOCATION:https://www.learndesk.us/class/6068586852384768/lesson/513c43d6613ba5b9a9d2df11854bab62?ref=outlook-calendar
DESCRIPTION: In this lesson, you will learn the skills necessary for creating a self-running presentation as well as recording and previewing it.
The step-by-step instructions for this lesson has been added. A sample file has been added to this lesson if you wish to follow along.

https://www.learndesk.us/class/6068586852384768/lesson/513c43d6613ba5b9a9d2df11854bab62?ref=outlook-calendar
STATUS:CONFIRMED
SEQUENCE:3
BEGIN:VALARM
TRIGGER:-PT10M
DESCRIPTION:Class Reminder
ACTION:DISPLAY
END:VALARM
END:VEVENT
END:VCALENDAR