BEGIN:VCALENDAR
VERSION:2.0
CALSCALE:GREGORIAN
BEGIN:VEVENT
URL:https://www.learndesk.us/class/6068586852384768/lesson/4d9dc2d94a2590fc05c6a36b90239397?ref=outlook-calendar
SUMMARY:Working with Speaker Notes Quiz
DTSTART;TZID=America/Los_Angeles:20260421T190000
DTEND;TZID=America/Los_Angeles:20260421T200000
LOCATION:https://www.learndesk.us/class/6068586852384768/lesson/4d9dc2d94a2590fc05c6a36b90239397?ref=outlook-calendar
DESCRIPTION: https://www.learndesk.us/class/6068586852384768/lesson/4d9dc2d94a2590fc05c6a36b90239397?ref=outlook-calendar
STATUS:CONFIRMED
SEQUENCE:3
BEGIN:VALARM
TRIGGER:-PT10M
DESCRIPTION:Class Reminder
ACTION:DISPLAY
END:VALARM
END:VEVENT
END:VCALENDAR