BEGIN:VCALENDAR
VERSION:2.0
CALSCALE:GREGORIAN
BEGIN:VEVENT
URL:https://www.learndesk.us/class/6068586852384768/lesson/473d20a6c7ffb4efa347734d4e45aeb3?ref=outlook-calendar
SUMMARY:Working with Animation
DTSTART;TZID=America/Los_Angeles:20260421T190000
DTEND;TZID=America/Los_Angeles:20260421T200000
LOCATION:https://www.learndesk.us/class/6068586852384768/lesson/473d20a6c7ffb4efa347734d4e45aeb3?ref=outlook-calendar
DESCRIPTION: This section will give you the skills to masterfully add animation to your slides as well as customize the triggers and play order.

https://www.learndesk.us/class/6068586852384768/lesson/473d20a6c7ffb4efa347734d4e45aeb3?ref=outlook-calendar
STATUS:CONFIRMED
SEQUENCE:3
BEGIN:VALARM
TRIGGER:-PT10M
DESCRIPTION:Class Reminder
ACTION:DISPLAY
END:VALARM
END:VEVENT
END:VCALENDAR