BEGIN:VCALENDAR
VERSION:2.0
CALSCALE:GREGORIAN
BEGIN:VEVENT
URL:https://www.learndesk.us/class/6068586852384768/lesson/3fa0f58c8a3398b6eb4162d4c3f45761?ref=outlook-calendar
SUMMARY:Exporting Presentations
DTSTART;TZID=America/Los_Angeles:20260421T190000
DTEND;TZID=America/Los_Angeles:20260421T200000
LOCATION:https://www.learndesk.us/class/6068586852384768/lesson/3fa0f58c8a3398b6eb4162d4c3f45761?ref=outlook-calendar
DESCRIPTION: Upon completion of this section, you will be able to export your presentation into any format you require.

https://www.learndesk.us/class/6068586852384768/lesson/3fa0f58c8a3398b6eb4162d4c3f45761?ref=outlook-calendar
STATUS:CONFIRMED
SEQUENCE:3
BEGIN:VALARM
TRIGGER:-PT10M
DESCRIPTION:Class Reminder
ACTION:DISPLAY
END:VALARM
END:VEVENT
END:VCALENDAR