BEGIN:VCALENDAR
VERSION:2.0
CALSCALE:GREGORIAN
BEGIN:VEVENT
URL:https://www.learndesk.us/class/6068586852384768/lesson/3114a9c2ea987ab5e2305a8cbc0247b9?ref=outlook-calendar
SUMMARY:Inserting Slides
DTSTART;TZID=America/Los_Angeles:20260421T190000
DTEND;TZID=America/Los_Angeles:20260421T200000
LOCATION:https://www.learndesk.us/class/6068586852384768/lesson/3114a9c2ea987ab5e2305a8cbc0247b9?ref=outlook-calendar
DESCRIPTION: This lesson gives you the skills for

- Adding new blanks slides to your presentation, utilizing the various layout options available
- Reusing slides from previous presentations, incorporating them smoothly into your presentation
- Importing a Word outline into your presentation

The step-by-step instructions for this lesson have been added. Sample files have been added to this lesson if you wish to follow along.

https://www.learndesk.us/class/6068586852384768/lesson/3114a9c2ea987ab5e2305a8cbc0247b9?ref=outlook-calendar
STATUS:CONFIRMED
SEQUENCE:3
BEGIN:VALARM
TRIGGER:-PT10M
DESCRIPTION:Class Reminder
ACTION:DISPLAY
END:VALARM
END:VEVENT
END:VCALENDAR