BEGIN:VCALENDAR
VERSION:2.0
CALSCALE:GREGORIAN
BEGIN:VEVENT
URL:https://www.learndesk.us/class/6068586852384768/lesson/30c31a79bcb9b1f6e63357fa648b7166?ref=outlook-calendar
SUMMARY:Printing Presentations
DTSTART;TZID=America/Los_Angeles:20260421T190000
DTEND;TZID=America/Los_Angeles:20260421T200000
LOCATION:https://www.learndesk.us/class/6068586852384768/lesson/30c31a79bcb9b1f6e63357fa648b7166?ref=outlook-calendar
DESCRIPTION: This module teaches you about the options available when printing

- Settings for printing your presentation
- Printing notes
- Printing handouts

The step-by-step instructions for this lesson have been added. Printing Sample.pptx has been added to this lesson if you wish to follow along using a sample presentation.

https://www.learndesk.us/class/6068586852384768/lesson/30c31a79bcb9b1f6e63357fa648b7166?ref=outlook-calendar
STATUS:CONFIRMED
SEQUENCE:3
BEGIN:VALARM
TRIGGER:-PT10M
DESCRIPTION:Class Reminder
ACTION:DISPLAY
END:VALARM
END:VEVENT
END:VCALENDAR