BEGIN:VCALENDAR
VERSION:2.0
CALSCALE:GREGORIAN
BEGIN:VEVENT
URL:https://www.learndesk.us/class/6068586852384768/lesson/2fcd057b18ec893561afdefa53fe720e?ref=outlook-calendar
SUMMARY:Adding, Setting Options and Timing
DTSTART;TZID=America/Los_Angeles:20260421T190000
DTEND;TZID=America/Los_Angeles:20260421T200000
LOCATION:https://www.learndesk.us/class/6068586852384768/lesson/2fcd057b18ec893561afdefa53fe720e?ref=outlook-calendar
DESCRIPTION: This lesson will teach you about the various types of transitions. It will also walk you through

- Adding transitions
- Setting transition options
- Setting transition timings
- Removing unnecessary transitions

The step-by-step instructions for this lesson have been added. A sample file has been added to this lesson if you wish to follow along.

https://www.learndesk.us/class/6068586852384768/lesson/2fcd057b18ec893561afdefa53fe720e?ref=outlook-calendar
STATUS:CONFIRMED
SEQUENCE:3
BEGIN:VALARM
TRIGGER:-PT10M
DESCRIPTION:Class Reminder
ACTION:DISPLAY
END:VALARM
END:VEVENT
END:VCALENDAR