BEGIN:VCALENDAR
VERSION:2.0
CALSCALE:GREGORIAN
BEGIN:VEVENT
URL:https://www.learndesk.us/class/6068586852384768/lesson/25afdca81b3701fdcbc2f00d6891ef0c?ref=outlook-calendar
SUMMARY:Getting Started
DTSTART;TZID=America/Los_Angeles:20260421T190000
DTEND;TZID=America/Los_Angeles:20260421T200000
LOCATION:https://www.learndesk.us/class/6068586852384768/lesson/25afdca81b3701fdcbc2f00d6891ef0c?ref=outlook-calendar
DESCRIPTION: This section gives you the skills necessary to customize the Quick Access toolbar as well as create, print, and save your presentation.

https://www.learndesk.us/class/6068586852384768/lesson/25afdca81b3701fdcbc2f00d6891ef0c?ref=outlook-calendar
STATUS:CONFIRMED
SEQUENCE:3
BEGIN:VALARM
TRIGGER:-PT10M
DESCRIPTION:Class Reminder
ACTION:DISPLAY
END:VALARM
END:VEVENT
END:VCALENDAR