BEGIN:VCALENDAR
VERSION:2.0
CALSCALE:GREGORIAN
BEGIN:VEVENT
URL:https://www.learndesk.us/class/6068586852384768/lesson/177de6134d97400af2333dfedeaeca59?ref=outlook-calendar
SUMMARY:Applying Animation
DTSTART;TZID=America/Los_Angeles:20260421T190000
DTEND;TZID=America/Los_Angeles:20260421T200000
LOCATION:https://www.learndesk.us/class/6068586852384768/lesson/177de6134d97400af2333dfedeaeca59?ref=outlook-calendar
DESCRIPTION: This module will teach you about the various types of animation and their individualized effects. It will also walk you through applying animation to your content.

The step-by-step instructions for these lessons have been added. Sample files have been added to this lesson if you wish to follow along.

https://www.learndesk.us/class/6068586852384768/lesson/177de6134d97400af2333dfedeaeca59?ref=outlook-calendar
STATUS:CONFIRMED
SEQUENCE:3
BEGIN:VALARM
TRIGGER:-PT10M
DESCRIPTION:Class Reminder
ACTION:DISPLAY
END:VALARM
END:VEVENT
END:VCALENDAR