BEGIN:VCALENDAR
VERSION:2.0
CALSCALE:GREGORIAN
BEGIN:VEVENT
URL:https://www.learndesk.us/class/6068586852384768/lesson/06db3d03dd1cd2df47581895c48cbbda?ref=outlook-calendar
SUMMARY:Working with Speaker Note
DTSTART;TZID=America/Los_Angeles:20260421T190000
DTEND;TZID=America/Los_Angeles:20260421T200000
LOCATION:https://www.learndesk.us/class/6068586852384768/lesson/06db3d03dd1cd2df47581895c48cbbda?ref=outlook-calendar
DESCRIPTION: Upon completion of this section, you will have the skill set necessary to create and print slides notes. You will also be able to utilize the presenter's view when giving presentations.

https://www.learndesk.us/class/6068586852384768/lesson/06db3d03dd1cd2df47581895c48cbbda?ref=outlook-calendar
STATUS:CONFIRMED
SEQUENCE:3
BEGIN:VALARM
TRIGGER:-PT10M
DESCRIPTION:Class Reminder
ACTION:DISPLAY
END:VALARM
END:VEVENT
END:VCALENDAR