BEGIN:VCALENDAR
VERSION:2.0
CALSCALE:GREGORIAN
BEGIN:VEVENT
URL:https://www.learndesk.us/class/6068586852384768/lesson/03e3a0322bbc6183393d44e9e5d641f1?ref=outlook-calendar
SUMMARY:Using the Replace Fonts Tool
DTSTART;TZID=America/Los_Angeles:20260421T190000
DTEND;TZID=America/Los_Angeles:20260421T200000
LOCATION:https://www.learndesk.us/class/6068586852384768/lesson/03e3a0322bbc6183393d44e9e5d641f1?ref=outlook-calendar
DESCRIPTION: You will learn how to utilize the time saving replace fonts tool to replace specific fonts throughout your presentation or slide master. The step-by-step instructions for this lesson have been added.

https://www.learndesk.us/class/6068586852384768/lesson/03e3a0322bbc6183393d44e9e5d641f1?ref=outlook-calendar
STATUS:CONFIRMED
SEQUENCE:3
BEGIN:VALARM
TRIGGER:-PT10M
DESCRIPTION:Class Reminder
ACTION:DISPLAY
END:VALARM
END:VEVENT
END:VCALENDAR