BEGIN:VCALENDAR
VERSION:2.0
CALSCALE:GREGORIAN
BEGIN:VEVENT
URL:https://www.learndesk.us/class/6068586852384768/learning-powerpoint-2016?ref=outlook-calendar
SUMMARY:Learning PowerPoint 2016
DTSTART;TZID=America/Los_Angeles:20260421T190000
DTEND;TZID=America/Los_Angeles:20260421T200000
LOCATION:https://www.learndesk.us/class/6068586852384768/learning-powerpoint-2016?ref=outlook-calendar
DESCRIPTION: This course walks you through, step-by-step, all the processes and features to create and present a professional presentation with confidence.
What will you learn in this course?

Navigating the PowerPoint screen, tabs, and contextual tabs
Customizing the quick access toolbar
Creating a new presentation from various types of templates - blank, Microsoft, and personal
Printing presentations, including notes and handouts
Saving presentations, including embedding fonts and removing metadata
Exporting presentations, including


Exporting as PDF
Packaging for CD
Creating video
Creating custom word handouts
Changing file type


Working with slide master, including


Adding themes, backgrounds, fonts
Working with placeholders
Adding and manipulating page numbers and footers
Saving templates
Pinning templates to the taskbar


Inserting slides from


Blank slides
Another presentation
Word outline


Moving slides
Deleting slides
Adding and manipulating the following...

https://www.learndesk.us/class/6068586852384768/learning-powerpoint-2016?ref=outlook-calendar
STATUS:CONFIRMED
SEQUENCE:3
BEGIN:VALARM
TRIGGER:-PT10M
DESCRIPTION:Class Reminder
ACTION:DISPLAY
END:VALARM
END:VEVENT
END:VCALENDAR