BEGIN:VCALENDAR
VERSION:2.0
CALSCALE:GREGORIAN
BEGIN:VEVENT
URL:https://www.learndesk.us/class/6039835686993920/lesson/ab2cc5429750f746af497f2cb5191ec9?ref=outlook-calendar
SUMMARY:More on user, group, permission, Filesystem and  System admin tools
DTSTART;TZID=America/Los_Angeles:20260422T190000
DTEND;TZID=America/Los_Angeles:20260422T200000
LOCATION:https://www.learndesk.us/class/6039835686993920/lesson/ab2cc5429750f746af497f2cb5191ec9?ref=outlook-calendar
DESCRIPTION: https://www.learndesk.us/class/6039835686993920/lesson/ab2cc5429750f746af497f2cb5191ec9?ref=outlook-calendar
STATUS:CONFIRMED
SEQUENCE:3
BEGIN:VALARM
TRIGGER:-PT10M
DESCRIPTION:Class Reminder
ACTION:DISPLAY
END:VALARM
END:VEVENT
END:VCALENDAR