BEGIN:VCALENDAR
VERSION:2.0
CALSCALE:GREGORIAN
BEGIN:VEVENT
URL:https://www.learndesk.us/class/6039835686993920/lesson/4eda285d5c16c01627b7849c3380774e?ref=outlook-calendar
SUMMARY:L9 - Installation
DTSTART;TZID=America/Los_Angeles:20260422T190000
DTEND;TZID=America/Los_Angeles:20260422T200000
LOCATION:https://www.learndesk.us/class/6039835686993920/lesson/4eda285d5c16c01627b7849c3380774e?ref=outlook-calendar
DESCRIPTION: https://www.learndesk.us/class/6039835686993920/lesson/4eda285d5c16c01627b7849c3380774e?ref=outlook-calendar
STATUS:CONFIRMED
SEQUENCE:3
BEGIN:VALARM
TRIGGER:-PT10M
DESCRIPTION:Class Reminder
ACTION:DISPLAY
END:VALARM
END:VEVENT
END:VCALENDAR