BEGIN:VCALENDAR
VERSION:2.0
CALSCALE:GREGORIAN
BEGIN:VEVENT
URL:https://www.learndesk.us/class/6039835686993920/lesson/4ad3a8018a4a70cb5024d36df57bc4ab?ref=outlook-calendar
SUMMARY:More on user, group and permission
DTSTART;TZID=America/Los_Angeles:20260422T190000
DTEND;TZID=America/Los_Angeles:20260422T200000
LOCATION:https://www.learndesk.us/class/6039835686993920/lesson/4ad3a8018a4a70cb5024d36df57bc4ab?ref=outlook-calendar
DESCRIPTION: https://www.learndesk.us/class/6039835686993920/lesson/4ad3a8018a4a70cb5024d36df57bc4ab?ref=outlook-calendar
STATUS:CONFIRMED
SEQUENCE:3
BEGIN:VALARM
TRIGGER:-PT10M
DESCRIPTION:Class Reminder
ACTION:DISPLAY
END:VALARM
END:VEVENT
END:VCALENDAR