BEGIN:VCALENDAR
VERSION:2.0
CALSCALE:GREGORIAN
BEGIN:VEVENT
URL:https://www.learndesk.us/class/6039835686993920/lesson/2e1e9a363c7f68f8d6907ba07e0b2df5?ref=outlook-calendar
SUMMARY:L6 - Filesystem Management
DTSTART;TZID=America/Los_Angeles:20260422T190000
DTEND;TZID=America/Los_Angeles:20260422T200000
LOCATION:https://www.learndesk.us/class/6039835686993920/lesson/2e1e9a363c7f68f8d6907ba07e0b2df5?ref=outlook-calendar
DESCRIPTION: https://www.learndesk.us/class/6039835686993920/lesson/2e1e9a363c7f68f8d6907ba07e0b2df5?ref=outlook-calendar
STATUS:CONFIRMED
SEQUENCE:3
BEGIN:VALARM
TRIGGER:-PT10M
DESCRIPTION:Class Reminder
ACTION:DISPLAY
END:VALARM
END:VEVENT
END:VCALENDAR