BEGIN:VCALENDAR
VERSION:2.0
CALSCALE:GREGORIAN
BEGIN:VEVENT
URL:https://www.learndesk.us/class/6039835686993920/lesson/189ecc730ed3785dabadb85404f24709?ref=outlook-calendar
SUMMARY:Practical Excersice: 4 (Standard I/O and Pipes)
DTSTART;TZID=America/Los_Angeles:20260421T190000
DTEND;TZID=America/Los_Angeles:20260421T200000
LOCATION:https://www.learndesk.us/class/6039835686993920/lesson/189ecc730ed3785dabadb85404f24709?ref=outlook-calendar
DESCRIPTION: https://www.learndesk.us/class/6039835686993920/lesson/189ecc730ed3785dabadb85404f24709?ref=outlook-calendar
STATUS:CONFIRMED
SEQUENCE:3
BEGIN:VALARM
TRIGGER:-PT10M
DESCRIPTION:Class Reminder
ACTION:DISPLAY
END:VALARM
END:VEVENT
END:VCALENDAR