BEGIN:VCALENDAR
VERSION:2.0
CALSCALE:GREGORIAN
BEGIN:VEVENT
URL:https://www.learndesk.us/class/6039835686993920/complete-red-hat-server-administration-rhce-2019?ref=outlook-calendar
SUMMARY:Complete Red Hat Server Administration: RHCE 2019
DTSTART;TZID=America/Los_Angeles:20260421T190000
DTEND;TZID=America/Los_Angeles:20260421T200000
LOCATION:https://www.learndesk.us/class/6039835686993920/complete-red-hat-server-administration-rhce-2019?ref=outlook-calendar
DESCRIPTION: 
This course is all about RHEL (Red Hat Enterprise Linux ) and RHCE (Red Hat Certification Exam). Here we will explore various services, utilities, commands, concepts related to RHEL covering RH033 (Essentials) and RH133 (System Administration). We will learn concepts in lectures and will implement by executing commands on terminal and shell scripts in practical sessions.
What will you learn in this course?

Linux file system in depth
Graphical utilities on gnome
Wide range of commands for text processing (grep, sed, cut, less, pipe, tr, etc.) handling
Process management (ps, pstree, top, kill, etc.)
File management (CD, ls, touch, etc.)
File permission (chmod, chgrp, chown, etc.) in both symbolic and numeric methods
Logging, Networking, system administration, mounting, installation (yum), etc. with a wide range of topics with an emphasis on RHCE
System Administration RH133 in-depth covering a wide range of topics including System Initialisation, RPM Package Management, Kernel and...

https://www.learndesk.us/class/6039835686993920/complete-red-hat-server-administration-rhce-2019?ref=outlook-calendar
STATUS:CONFIRMED
SEQUENCE:3
BEGIN:VALARM
TRIGGER:-PT10M
DESCRIPTION:Class Reminder
ACTION:DISPLAY
END:VALARM
END:VEVENT
END:VCALENDAR