BEGIN:VCALENDAR
VERSION:2.0
CALSCALE:GREGORIAN
BEGIN:VEVENT
URL:https://www.learndesk.us/class/6027232889798656/lesson/9e7f8c54184725a05b8a34f6aaa084f3?ref=outlook-calendar
SUMMARY:Day 15
DTSTART;TZID=America/Los_Angeles:20260424T190000
DTEND;TZID=America/Los_Angeles:20260424T200000
LOCATION:https://www.learndesk.us/class/6027232889798656/lesson/9e7f8c54184725a05b8a34f6aaa084f3?ref=outlook-calendar
DESCRIPTION: 

https://www.learndesk.us/class/6027232889798656/lesson/9e7f8c54184725a05b8a34f6aaa084f3?ref=outlook-calendar
STATUS:CONFIRMED
SEQUENCE:3
BEGIN:VALARM
TRIGGER:-PT10M
DESCRIPTION:Class Reminder
ACTION:DISPLAY
END:VALARM
END:VEVENT
END:VCALENDAR