BEGIN:VCALENDAR
VERSION:2.0
CALSCALE:GREGORIAN
BEGIN:VEVENT
URL:https://www.learndesk.us/class/6027232889798656/lesson/87c95b580db2d556a173ada07c91cfc9?ref=outlook-calendar
SUMMARY:Final Exam
DTSTART;TZID=America/Los_Angeles:20260424T190000
DTEND;TZID=America/Los_Angeles:20260424T200000
LOCATION:https://www.learndesk.us/class/6027232889798656/lesson/87c95b580db2d556a173ada07c91cfc9?ref=outlook-calendar
DESCRIPTION: 

https://www.learndesk.us/class/6027232889798656/lesson/87c95b580db2d556a173ada07c91cfc9?ref=outlook-calendar
STATUS:CONFIRMED
SEQUENCE:3
BEGIN:VALARM
TRIGGER:-PT10M
DESCRIPTION:Class Reminder
ACTION:DISPLAY
END:VALARM
END:VEVENT
END:VCALENDAR