BEGIN:VCALENDAR
VERSION:2.0
CALSCALE:GREGORIAN
BEGIN:VEVENT
URL:https://www.learndesk.us/class/6027232889798656/lesson/840292973ab14006e01bac4823726399?ref=outlook-calendar
SUMMARY:Lay the Groundwork
DTSTART;TZID=America/Los_Angeles:20260424T190000
DTEND;TZID=America/Los_Angeles:20260424T200000
LOCATION:https://www.learndesk.us/class/6027232889798656/lesson/840292973ab14006e01bac4823726399?ref=outlook-calendar
DESCRIPTION: Let's get you situated and prepared.

https://www.learndesk.us/class/6027232889798656/lesson/840292973ab14006e01bac4823726399?ref=outlook-calendar
STATUS:CONFIRMED
SEQUENCE:3
BEGIN:VALARM
TRIGGER:-PT10M
DESCRIPTION:Class Reminder
ACTION:DISPLAY
END:VALARM
END:VEVENT
END:VCALENDAR