BEGIN:VCALENDAR
VERSION:2.0
CALSCALE:GREGORIAN
BEGIN:VEVENT
URL:https://www.learndesk.us/class/6027232889798656/lesson/6bd7b8b315168ae4a9bed0f5c71e460f?ref=outlook-calendar
SUMMARY:The Applications
DTSTART;TZID=America/Los_Angeles:20260424T190000
DTEND;TZID=America/Los_Angeles:20260424T200000
LOCATION:https://www.learndesk.us/class/6027232889798656/lesson/6bd7b8b315168ae4a9bed0f5c71e460f?ref=outlook-calendar
DESCRIPTION: This is where you'll find your daily regimen for this course.
"Practical mechanics" will also appear in this section over time to give you a deeper understanding and additional actions (for extra credit).

https://www.learndesk.us/class/6027232889798656/lesson/6bd7b8b315168ae4a9bed0f5c71e460f?ref=outlook-calendar
STATUS:CONFIRMED
SEQUENCE:3
BEGIN:VALARM
TRIGGER:-PT10M
DESCRIPTION:Class Reminder
ACTION:DISPLAY
END:VALARM
END:VEVENT
END:VCALENDAR