BEGIN:VCALENDAR
VERSION:2.0
CALSCALE:GREGORIAN
BEGIN:VEVENT
URL:https://www.learndesk.us/class/6027232889798656/how-to-fall-in-love-with-your-wife-all-over-again?ref=outlook-calendar
SUMMARY:How to Fall in Love With Your Wife Again
DTSTART;TZID=America/Los_Angeles:20260424T190000
DTEND;TZID=America/Los_Angeles:20260424T200000
LOCATION:https://www.learndesk.us/class/6027232889798656/how-to-fall-in-love-with-your-wife-all-over-again?ref=outlook-calendar
DESCRIPTION: You can change how you feel about your wife. In this 21-day course, you will get daily tasks&mdash;we'll tell you exactly what to do. No fluffy "just-feel-it" approaches. You'll get a daily message along with a practical application of what to do for that day. Scattered throughout the course are some mechanics and theories that are the how-it-works part. Improvements are being added to this course regularly, so order now to get in at this price so you'll have access to the course and all its additional material for life.
You should take this course if

Things have cooled off in your relationship and you want to warm things up a bit,
One (or both) of you have mentioned divorce,
You're actually married or you've just been together a while,
You think she's getting ready to leave (and you'd rather she not),
There's been any kind of cheating (on your side or hers),
Anyone has suggested you're too self-focused,
There are kids who'd do better with Mom and Dad together (but don't just...

https://www.learndesk.us/class/6027232889798656/how-to-fall-in-love-with-your-wife-all-over-again?ref=outlook-calendar
STATUS:CONFIRMED
SEQUENCE:3
BEGIN:VALARM
TRIGGER:-PT10M
DESCRIPTION:Class Reminder
ACTION:DISPLAY
END:VALARM
END:VEVENT
END:VCALENDAR