BEGIN:VCALENDAR
VERSION:2.0
CALSCALE:GREGORIAN
BEGIN:VEVENT
URL:https://www.learndesk.us/class/6009812586332160/lesson/e65cc0bb5ce2214d37a49dc4c8abe4ca?ref=outlook-calendar
SUMMARY:Chapter 7: Project Cost Management
DTSTART;TZID=America/Los_Angeles:20260424T190000
DTEND;TZID=America/Los_Angeles:20260424T200000
LOCATION:https://www.learndesk.us/class/6009812586332160/lesson/e65cc0bb5ce2214d37a49dc4c8abe4ca?ref=outlook-calendar
DESCRIPTION: In this chapter, we will discuss all the processes related to cost and cost management. An important part here is the use of earned value management to identify the status of the project and estimate end time and cost.

Determining the cost of the project
Summary of Earned Value Management
Earned Value Management from the start - and follow up videos
Earned Value Management Exercises - and follow up videos


https://www.learndesk.us/class/6009812586332160/lesson/e65cc0bb5ce2214d37a49dc4c8abe4ca?ref=outlook-calendar
STATUS:CONFIRMED
SEQUENCE:3
BEGIN:VALARM
TRIGGER:-PT10M
DESCRIPTION:Class Reminder
ACTION:DISPLAY
END:VALARM
END:VEVENT
END:VCALENDAR