BEGIN:VCALENDAR
VERSION:2.0
CALSCALE:GREGORIAN
BEGIN:VEVENT
URL:https://www.learndesk.us/class/6009812586332160/lesson/a6b985c3b0fe8b2d44142b74607532a2?ref=outlook-calendar
SUMMARY:Overview of the Tools and Techniques for Develop Project Charter
DTSTART;TZID=America/Los_Angeles:20260422T190000
DTEND;TZID=America/Los_Angeles:20260422T200000
LOCATION:https://www.learndesk.us/class/6009812586332160/lesson/a6b985c3b0fe8b2d44142b74607532a2?ref=outlook-calendar
DESCRIPTION: https://www.learndesk.us/class/6009812586332160/lesson/a6b985c3b0fe8b2d44142b74607532a2?ref=outlook-calendar
STATUS:CONFIRMED
SEQUENCE:3
BEGIN:VALARM
TRIGGER:-PT10M
DESCRIPTION:Class Reminder
ACTION:DISPLAY
END:VALARM
END:VEVENT
END:VCALENDAR