BEGIN:VCALENDAR
VERSION:2.0
CALSCALE:GREGORIAN
BEGIN:VEVENT
URL:https://www.learndesk.us/class/6009812586332160/lesson/3bc4c07fda92968a8a1d27a99b0e2a5f?ref=outlook-calendar
SUMMARY:6.5: Develop Schedule - ITTO’s
DTSTART;TZID=America/Los_Angeles:20260424T190000
DTEND;TZID=America/Los_Angeles:20260424T200000
LOCATION:https://www.learndesk.us/class/6009812586332160/lesson/3bc4c07fda92968a8a1d27a99b0e2a5f?ref=outlook-calendar
DESCRIPTION: https://www.learndesk.us/class/6009812586332160/lesson/3bc4c07fda92968a8a1d27a99b0e2a5f?ref=outlook-calendar
STATUS:CONFIRMED
SEQUENCE:3
BEGIN:VALARM
TRIGGER:-PT10M
DESCRIPTION:Class Reminder
ACTION:DISPLAY
END:VALARM
END:VEVENT
END:VCALENDAR