BEGIN:VCALENDAR
VERSION:2.0
CALSCALE:GREGORIAN
BEGIN:VEVENT
URL:https://www.learndesk.us/class/6005599626067968/lesson/e448b4fd9322eb7ba4001312a9df6348?ref=outlook-calendar
SUMMARY:Statements and Arguments
DTSTART;TZID=America/Los_Angeles:20260421T190000
DTEND;TZID=America/Los_Angeles:20260421T200000
LOCATION:https://www.learndesk.us/class/6005599626067968/lesson/e448b4fd9322eb7ba4001312a9df6348?ref=outlook-calendar
DESCRIPTION: https://www.learndesk.us/class/6005599626067968/lesson/e448b4fd9322eb7ba4001312a9df6348?ref=outlook-calendar
STATUS:CONFIRMED
SEQUENCE:3
BEGIN:VALARM
TRIGGER:-PT10M
DESCRIPTION:Class Reminder
ACTION:DISPLAY
END:VALARM
END:VEVENT
END:VCALENDAR